BEGIN:VCALENDAR
VERSION:2.0
PRODID:-//GLOBAL EVENTS - ECPv6.15.20//NONSGML v1.0//EN
CALSCALE:GREGORIAN
METHOD:PUBLISH
X-ORIGINAL-URL:https://global-events.org
X-WR-CALDESC:Veranstaltungen für GLOBAL EVENTS
REFRESH-INTERVAL;VALUE=DURATION:PT1H
X-Robots-Tag:noindex
X-PUBLISHED-TTL:PT1H
BEGIN:VTIMEZONE
TZID:Europe/Berlin
BEGIN:DAYLIGHT
TZOFFSETFROM:+0100
TZOFFSETTO:+0200
TZNAME:CEST
DTSTART:20250330T010000
END:DAYLIGHT
BEGIN:STANDARD
TZOFFSETFROM:+0200
TZOFFSETTO:+0100
TZNAME:CET
DTSTART:20251026T010000
END:STANDARD
BEGIN:DAYLIGHT
TZOFFSETFROM:+0100
TZOFFSETTO:+0200
TZNAME:CEST
DTSTART:20260329T010000
END:DAYLIGHT
BEGIN:STANDARD
TZOFFSETFROM:+0200
TZOFFSETTO:+0100
TZNAME:CET
DTSTART:20261025T010000
END:STANDARD
BEGIN:DAYLIGHT
TZOFFSETFROM:+0100
TZOFFSETTO:+0200
TZNAME:CEST
DTSTART:20270328T010000
END:DAYLIGHT
BEGIN:STANDARD
TZOFFSETFROM:+0200
TZOFFSETTO:+0100
TZNAME:CET
DTSTART:20271031T010000
END:STANDARD
END:VTIMEZONE
BEGIN:VEVENT
DTSTART;TZID=Europe/Berlin:20260308T180000
DTEND;TZID=Europe/Berlin:20260308T210000
DTSTAMP:20260422T123312
CREATED:20260121T193915Z
LAST-MODIFIED:20260306T185748Z
UID:649-1772992800-1773003600@global-events.org
SUMMARY:Love Songs am Piano
DESCRIPTION:Erleben  Sie eine emotionale Show mit bewegenden Live-Performances\, persönlichen Geschichten und originalen Songs aus vier beliebten Genres: Schlager\, Soul\, Pop und Country. \nDrei ausdrucksstarke Künstler teilen an diesem Abend ihre Musik mit dem Publikum – authentisch\, berührend\, live: \n 
URL:https://global-events.org/event/love/
LOCATION:Eierschale in Dahlem\, Podbielskiallee 50\, Berlin\, Berlin\, 14195
CATEGORIES:Concerts
ATTACH;FMTTYPE=image/jpeg:https://global-events.org/wp-content/uploads/2026/01/love2-scaled.jpg
END:VEVENT
END:VCALENDAR